BEGIN:VCALENDAR
VERSION:2.0
PRODID:-//West Pierce Fire &amp; Rescue - ECPv6.15.20//NONSGML v1.0//EN
CALSCALE:GREGORIAN
METHOD:PUBLISH
X-ORIGINAL-URL:https://www.westpierce.org
X-WR-CALDESC:Events for West Pierce Fire &amp; Rescue
REFRESH-INTERVAL;VALUE=DURATION:PT1H
X-Robots-Tag:noindex
X-PUBLISHED-TTL:PT1H
BEGIN:VTIMEZONE
TZID:America/Los_Angeles
BEGIN:DAYLIGHT
TZOFFSETFROM:-0800
TZOFFSETTO:-0700
TZNAME:PDT
DTSTART:20250309T100000
END:DAYLIGHT
BEGIN:STANDARD
TZOFFSETFROM:-0700
TZOFFSETTO:-0800
TZNAME:PST
DTSTART:20251102T090000
END:STANDARD
BEGIN:DAYLIGHT
TZOFFSETFROM:-0800
TZOFFSETTO:-0700
TZNAME:PDT
DTSTART:20260308T100000
END:DAYLIGHT
BEGIN:STANDARD
TZOFFSETFROM:-0700
TZOFFSETTO:-0800
TZNAME:PST
DTSTART:20261101T090000
END:STANDARD
BEGIN:DAYLIGHT
TZOFFSETFROM:-0800
TZOFFSETTO:-0700
TZNAME:PDT
DTSTART:20270314T100000
END:DAYLIGHT
BEGIN:STANDARD
TZOFFSETFROM:-0700
TZOFFSETTO:-0800
TZNAME:PST
DTSTART:20271107T090000
END:STANDARD
END:VTIMEZONE
BEGIN:VEVENT
DTSTART;TZID=America/Los_Angeles:20260701T080000
DTEND;TZID=America/Los_Angeles:20260701T130000
DTSTAMP:20260423T002908
CREATED:20260402T182750Z
LAST-MODIFIED:20260402T182750Z
UID:10307-1782892800-1782910800@www.westpierce.org
SUMMARY:Safe Sitter Babysitting Class - University Place
DESCRIPTION:The Safe Sitter babysitting class is designed to teach students ages 11-13 how to be safe when caring for younger children. Even if they are not babysitting outside the home\, the skills they will learn in this course are very informative and useful. Students will learn how to run babysitting as a business\, childcare skills\, CPR and choking rescue\, as well as basic first aid. \nThe three-day class runs from 8:00 a.m. – 1:00 p.m. at Station 31 (3631 Drexler Drive in University Place). \nThe class costs $45. \nIn order to complete the class\, students must attend the entire time. \nPlease print and fill out this form. You can mail it to or drop it off at West Pierce Fire & Rescue Station 31 at 3631 Drexler Drive West\, University Place\, WA 98466. The $45 fee (cash or check) must be included in the envelope. \nRegistration starts May 1\, 2026. WPFR will not accept any sign-up forms until the registration period begins.
URL:https://www.westpierce.org/event/safe-sitter-babysitting-class-university-place/2026-07-01/
LOCATION:West Pierce Fire & Rescue Station 31\, 3631 Drexler Drive West\, University Place\, WA\, 98466\, United States
GEO:47.2246962;-122.5348476
X-APPLE-STRUCTURED-LOCATION;VALUE=URI;X-ADDRESS=West Pierce Fire & Rescue Station 31 3631 Drexler Drive West University Place WA 98466 United States;X-APPLE-RADIUS=500;X-TITLE=3631 Drexler Drive West:geo:-122.5348476,47.2246962
END:VEVENT
BEGIN:VEVENT
DTSTART;TZID=America/Los_Angeles:20260702T080000
DTEND;TZID=America/Los_Angeles:20260702T130000
DTSTAMP:20260423T002908
CREATED:20260402T182750Z
LAST-MODIFIED:20260402T182750Z
UID:10308-1782979200-1782997200@www.westpierce.org
SUMMARY:Safe Sitter Babysitting Class - University Place
DESCRIPTION:The Safe Sitter babysitting class is designed to teach students ages 11-13 how to be safe when caring for younger children. Even if they are not babysitting outside the home\, the skills they will learn in this course are very informative and useful. Students will learn how to run babysitting as a business\, childcare skills\, CPR and choking rescue\, as well as basic first aid. \nThe three-day class runs from 8:00 a.m. – 1:00 p.m. at Station 31 (3631 Drexler Drive in University Place). \nThe class costs $45. \nIn order to complete the class\, students must attend the entire time. \nPlease print and fill out this form. You can mail it to or drop it off at West Pierce Fire & Rescue Station 31 at 3631 Drexler Drive West\, University Place\, WA 98466. The $45 fee (cash or check) must be included in the envelope. \nRegistration starts May 1\, 2026. WPFR will not accept any sign-up forms until the registration period begins.
URL:https://www.westpierce.org/event/safe-sitter-babysitting-class-university-place/2026-07-02/
LOCATION:West Pierce Fire & Rescue Station 31\, 3631 Drexler Drive West\, University Place\, WA\, 98466\, United States
GEO:47.2246962;-122.5348476
X-APPLE-STRUCTURED-LOCATION;VALUE=URI;X-ADDRESS=West Pierce Fire & Rescue Station 31 3631 Drexler Drive West University Place WA 98466 United States;X-APPLE-RADIUS=500;X-TITLE=3631 Drexler Drive West:geo:-122.5348476,47.2246962
END:VEVENT
BEGIN:VEVENT
DTSTART;TZID=America/Los_Angeles:20260707T080000
DTEND;TZID=America/Los_Angeles:20260707T130000
DTSTAMP:20260423T002908
CREATED:20260402T182947Z
LAST-MODIFIED:20260402T182947Z
UID:10310-1783411200-1783429200@www.westpierce.org
SUMMARY:Safe Sitter Babysitting Class - Lakewood
DESCRIPTION:The Safe Sitter babysitting class is designed to teach students ages 11-13 how to be safe when caring for younger children. Even if they are not babysitting outside the home\, the skills they will learn in this course are very informative and useful. Students will learn how to run babysitting as a business\, childcare skills\, CPR and choking rescue\, as well as basic first aid. \nThe three-day class runs from 8:00 a.m. – 1:00 p.m. at Station 20 (10928 Pacific Highway SW in Lakewood). \nThe class costs $45. \nIn order to complete the class\, students must attend the entire time. \nPlease print and fill out this form. You can mail it to or drop it off at West Pierce Fire & Rescue Station 31 at 3631 Drexler Drive West\, University Place\, WA 98466. The $45 fee (cash or check) must be included in the envelope. \nRegistration starts May 1\, 2026. WPFR will not accept any sign-up forms until the registration period begins.
URL:https://www.westpierce.org/event/safe-sitter-babysitting-class-lakewood/2026-07-07/
LOCATION:West Pierce Fire & Rescue Station 20\, 10928 Pacific Highway SW\, Lakewood\, WA\, 98499\, United States
GEO:47.1578991;-122.4906577
X-APPLE-STRUCTURED-LOCATION;VALUE=URI;X-ADDRESS=West Pierce Fire & Rescue Station 20 10928 Pacific Highway SW Lakewood WA 98499 United States;X-APPLE-RADIUS=500;X-TITLE=10928 Pacific Highway SW:geo:-122.4906577,47.1578991
END:VEVENT
BEGIN:VEVENT
DTSTART;TZID=America/Los_Angeles:20260708T080000
DTEND;TZID=America/Los_Angeles:20260708T130000
DTSTAMP:20260423T002908
CREATED:20260402T182947Z
LAST-MODIFIED:20260402T182947Z
UID:10311-1783497600-1783515600@www.westpierce.org
SUMMARY:Safe Sitter Babysitting Class - Lakewood
DESCRIPTION:The Safe Sitter babysitting class is designed to teach students ages 11-13 how to be safe when caring for younger children. Even if they are not babysitting outside the home\, the skills they will learn in this course are very informative and useful. Students will learn how to run babysitting as a business\, childcare skills\, CPR and choking rescue\, as well as basic first aid. \nThe three-day class runs from 8:00 a.m. – 1:00 p.m. at Station 20 (10928 Pacific Highway SW in Lakewood). \nThe class costs $45. \nIn order to complete the class\, students must attend the entire time. \nPlease print and fill out this form. You can mail it to or drop it off at West Pierce Fire & Rescue Station 31 at 3631 Drexler Drive West\, University Place\, WA 98466. The $45 fee (cash or check) must be included in the envelope. \nRegistration starts May 1\, 2026. WPFR will not accept any sign-up forms until the registration period begins.
URL:https://www.westpierce.org/event/safe-sitter-babysitting-class-lakewood/2026-07-08/
LOCATION:West Pierce Fire & Rescue Station 20\, 10928 Pacific Highway SW\, Lakewood\, WA\, 98499\, United States
GEO:47.1578991;-122.4906577
X-APPLE-STRUCTURED-LOCATION;VALUE=URI;X-ADDRESS=West Pierce Fire & Rescue Station 20 10928 Pacific Highway SW Lakewood WA 98499 United States;X-APPLE-RADIUS=500;X-TITLE=10928 Pacific Highway SW:geo:-122.4906577,47.1578991
END:VEVENT
BEGIN:VEVENT
DTSTART;TZID=America/Los_Angeles:20260708T180000
DTEND;TZID=America/Los_Angeles:20260708T200000
DTSTAMP:20260423T002908
CREATED:20260220T221148Z
LAST-MODIFIED:20260220T221148Z
UID:10229-1783533600-1783540800@www.westpierce.org
SUMMARY:Music on the Square
DESCRIPTION:Stop and say hi to West Pierce Fire & Rescue at the City of University Place’s Music on the Square!
URL:https://www.westpierce.org/event/music-on-the-square/2026-07-08/
LOCATION:Market Square\, 3609 Market Square\, University Place\, WA\, 98466\, United States
ATTACH;FMTTYPE=image/jpeg:https://www.westpierce.org/wp-content/uploads/2016/02/WPFR-Thumbnail-e1457043366406.jpg
GEO:47.225934;-122.5363001
X-APPLE-STRUCTURED-LOCATION;VALUE=URI;X-ADDRESS=Market Square 3609 Market Square University Place WA 98466 United States;X-APPLE-RADIUS=500;X-TITLE=3609 Market Square:geo:-122.5363001,47.225934
END:VEVENT
BEGIN:VEVENT
DTSTART;TZID=America/Los_Angeles:20260709T080000
DTEND;TZID=America/Los_Angeles:20260709T130000
DTSTAMP:20260423T002908
CREATED:20260402T182947Z
LAST-MODIFIED:20260402T182947Z
UID:10312-1783584000-1783602000@www.westpierce.org
SUMMARY:Safe Sitter Babysitting Class - Lakewood
DESCRIPTION:The Safe Sitter babysitting class is designed to teach students ages 11-13 how to be safe when caring for younger children. Even if they are not babysitting outside the home\, the skills they will learn in this course are very informative and useful. Students will learn how to run babysitting as a business\, childcare skills\, CPR and choking rescue\, as well as basic first aid. \nThe three-day class runs from 8:00 a.m. – 1:00 p.m. at Station 20 (10928 Pacific Highway SW in Lakewood). \nThe class costs $45. \nIn order to complete the class\, students must attend the entire time. \nPlease print and fill out this form. You can mail it to or drop it off at West Pierce Fire & Rescue Station 31 at 3631 Drexler Drive West\, University Place\, WA 98466. The $45 fee (cash or check) must be included in the envelope. \nRegistration starts May 1\, 2026. WPFR will not accept any sign-up forms until the registration period begins.
URL:https://www.westpierce.org/event/safe-sitter-babysitting-class-lakewood/2026-07-09/
LOCATION:West Pierce Fire & Rescue Station 20\, 10928 Pacific Highway SW\, Lakewood\, WA\, 98499\, United States
GEO:47.1578991;-122.4906577
X-APPLE-STRUCTURED-LOCATION;VALUE=URI;X-ADDRESS=West Pierce Fire & Rescue Station 20 10928 Pacific Highway SW Lakewood WA 98499 United States;X-APPLE-RADIUS=500;X-TITLE=10928 Pacific Highway SW:geo:-122.4906577,47.1578991
END:VEVENT
BEGIN:VEVENT
DTSTART;TZID=America/Los_Angeles:20260714T140000
DTEND;TZID=America/Los_Angeles:20260714T190000
DTSTAMP:20260423T002908
CREATED:20260220T220624Z
LAST-MODIFIED:20260220T220624Z
UID:10223-1784037600-1784055600@www.westpierce.org
SUMMARY:Lakewood Farmers Market
DESCRIPTION:Visit WPFR’s booth at the Lakewood Farmers Market! Meet your local firefighters\, explore safety resources\, and learn tips to help keep your home and family safe.
URL:https://www.westpierce.org/event/lakewood-farmers-market-2/2026-07-14/
LOCATION:Fort Steilacoom Park\, Lakewood\, WA\, 98498\, United States
ATTACH;FMTTYPE=image/jpeg:https://www.westpierce.org/wp-content/uploads/2016/02/WPFR-Thumbnail-e1457043366406.jpg
GEO:47.1643833;-122.5619529
END:VEVENT
BEGIN:VEVENT
DTSTART;TZID=America/Los_Angeles:20260714T173000
DTEND;TZID=America/Los_Angeles:20260714T183000
DTSTAMP:20260423T002908
CREATED:20260220T212326Z
LAST-MODIFIED:20260220T212459Z
UID:10191-1784050200-1784053800@www.westpierce.org
SUMMARY:Fire Commissioners meeting
DESCRIPTION:
URL:https://www.westpierce.org/event/fire-commissioners-meeting-5/2026-07-14/
LOCATION:West Pierce Fire & Rescue Station 31\, 3631 Drexler Drive West\, University Place\, WA\, 98466\, United States
CATEGORIES:Board of Fire Commissioners
ATTACH;FMTTYPE=image/jpeg:https://www.westpierce.org/wp-content/uploads/2016/02/WPFR-Thumbnail-e1457043366406.jpg
GEO:47.2246962;-122.5348476
X-APPLE-STRUCTURED-LOCATION;VALUE=URI;X-ADDRESS=West Pierce Fire & Rescue Station 31 3631 Drexler Drive West University Place WA 98466 United States;X-APPLE-RADIUS=500;X-TITLE=3631 Drexler Drive West:geo:-122.5348476,47.2246962
END:VEVENT
BEGIN:VEVENT
DTSTART;TZID=America/Los_Angeles:20260722T180000
DTEND;TZID=America/Los_Angeles:20260722T200000
DTSTAMP:20260423T002908
CREATED:20260220T221148Z
LAST-MODIFIED:20260220T221148Z
UID:10230-1784743200-1784750400@www.westpierce.org
SUMMARY:Music on the Square
DESCRIPTION:Stop and say hi to West Pierce Fire & Rescue at the City of University Place’s Music on the Square!
URL:https://www.westpierce.org/event/music-on-the-square/2026-07-22/
LOCATION:Market Square\, 3609 Market Square\, University Place\, WA\, 98466\, United States
ATTACH;FMTTYPE=image/jpeg:https://www.westpierce.org/wp-content/uploads/2016/02/WPFR-Thumbnail-e1457043366406.jpg
GEO:47.225934;-122.5363001
X-APPLE-STRUCTURED-LOCATION;VALUE=URI;X-ADDRESS=Market Square 3609 Market Square University Place WA 98466 United States;X-APPLE-RADIUS=500;X-TITLE=3609 Market Square:geo:-122.5363001,47.225934
END:VEVENT
BEGIN:VEVENT
DTSTART;TZID=America/Los_Angeles:20260728T140000
DTEND;TZID=America/Los_Angeles:20260728T190000
DTSTAMP:20260423T002908
CREATED:20260220T220624Z
LAST-MODIFIED:20260220T220624Z
UID:10224-1785247200-1785265200@www.westpierce.org
SUMMARY:Lakewood Farmers Market
DESCRIPTION:Visit WPFR’s booth at the Lakewood Farmers Market! Meet your local firefighters\, explore safety resources\, and learn tips to help keep your home and family safe.
URL:https://www.westpierce.org/event/lakewood-farmers-market-2/2026-07-28/
LOCATION:Fort Steilacoom Park\, Lakewood\, WA\, 98498\, United States
ATTACH;FMTTYPE=image/jpeg:https://www.westpierce.org/wp-content/uploads/2016/02/WPFR-Thumbnail-e1457043366406.jpg
GEO:47.1643833;-122.5619529
END:VEVENT
END:VCALENDAR