BEGIN:VCALENDAR
VERSION:2.0
PRODID:-//West Pierce Fire &amp; Rescue - ECPv6.15.20//NONSGML v1.0//EN
CALSCALE:GREGORIAN
METHOD:PUBLISH
X-WR-CALNAME:West Pierce Fire &amp; Rescue
X-ORIGINAL-URL:https://www.westpierce.org
X-WR-CALDESC:Events for West Pierce Fire &amp; Rescue
REFRESH-INTERVAL;VALUE=DURATION:PT1H
X-Robots-Tag:noindex
X-PUBLISHED-TTL:PT1H
BEGIN:VTIMEZONE
TZID:America/Los_Angeles
BEGIN:DAYLIGHT
TZOFFSETFROM:-0800
TZOFFSETTO:-0700
TZNAME:PDT
DTSTART:20250309T100000
END:DAYLIGHT
BEGIN:STANDARD
TZOFFSETFROM:-0700
TZOFFSETTO:-0800
TZNAME:PST
DTSTART:20251102T090000
END:STANDARD
BEGIN:DAYLIGHT
TZOFFSETFROM:-0800
TZOFFSETTO:-0700
TZNAME:PDT
DTSTART:20260308T100000
END:DAYLIGHT
BEGIN:STANDARD
TZOFFSETFROM:-0700
TZOFFSETTO:-0800
TZNAME:PST
DTSTART:20261101T090000
END:STANDARD
BEGIN:DAYLIGHT
TZOFFSETFROM:-0800
TZOFFSETTO:-0700
TZNAME:PDT
DTSTART:20270314T100000
END:DAYLIGHT
BEGIN:STANDARD
TZOFFSETFROM:-0700
TZOFFSETTO:-0800
TZNAME:PST
DTSTART:20271107T090000
END:STANDARD
END:VTIMEZONE
BEGIN:VEVENT
DTSTART;TZID=America/Los_Angeles:20260908T173000
DTEND;TZID=America/Los_Angeles:20260908T183000
DTSTAMP:20260423T030000
CREATED:20260220T212326Z
LAST-MODIFIED:20260220T212500Z
UID:10193-1788888600-1788892200@www.westpierce.org
SUMMARY:Fire Commissioners meeting
DESCRIPTION:
URL:https://www.westpierce.org/event/fire-commissioners-meeting-5/2026-09-08/
LOCATION:West Pierce Fire & Rescue Station 31\, 3631 Drexler Drive West\, University Place\, WA\, 98466\, United States
CATEGORIES:Board of Fire Commissioners
ATTACH;FMTTYPE=image/jpeg:https://www.westpierce.org/wp-content/uploads/2016/02/WPFR-Thumbnail-e1457043366406.jpg
GEO:47.2246962;-122.5348476
X-APPLE-STRUCTURED-LOCATION;VALUE=URI;X-ADDRESS=West Pierce Fire & Rescue Station 31 3631 Drexler Drive West University Place WA 98466 United States;X-APPLE-RADIUS=500;X-TITLE=3631 Drexler Drive West:geo:-122.5348476,47.2246962
END:VEVENT
BEGIN:VEVENT
DTSTART;TZID=America/Los_Angeles:20260926T120000
DTEND;TZID=America/Los_Angeles:20260926T180000
DTSTAMP:20260423T030000
CREATED:20260220T223122Z
LAST-MODIFIED:20260220T224647Z
UID:10237-1790424000-1790445600@www.westpierce.org
SUMMARY:Fiesta de La Familia
DESCRIPTION:Say to hi to West Pierce Fire & Rescue at the City of Lakewood’s Fiesta de La Familia!
URL:https://www.westpierce.org/event/fiestadelafamilia/
LOCATION:Fort Steilacoom Park\, Lakewood\, WA\, 98498\, United States
CATEGORIES:Events,Lakewood
ATTACH;FMTTYPE=image/jpeg:https://www.westpierce.org/wp-content/uploads/2016/02/WPFR-Thumbnail-e1457043366406.jpg
GEO:47.1643833;-122.5619529
END:VEVENT
END:VCALENDAR